BEGIN:VCALENDAR
VERSION:2.0
PRODID:-//Säe mit uns - ernte Gemein·schaft - ECPv6.15.20//NONSGML v1.0//EN
CALSCALE:GREGORIAN
METHOD:PUBLISH
X-ORIGINAL-URL:https://zukunftswerkstatt-inklusion-leipzig.de
X-WR-CALDESC:Veranstaltungen für Säe mit uns - ernte Gemein·schaft
REFRESH-INTERVAL;VALUE=DURATION:PT1H
X-Robots-Tag:noindex
X-PUBLISHED-TTL:PT1H
BEGIN:VTIMEZONE
TZID:Europe/Paris
BEGIN:DAYLIGHT
TZOFFSETFROM:+0100
TZOFFSETTO:+0200
TZNAME:CEST
DTSTART:20240331T010000
END:DAYLIGHT
BEGIN:STANDARD
TZOFFSETFROM:+0200
TZOFFSETTO:+0100
TZNAME:CET
DTSTART:20241027T010000
END:STANDARD
BEGIN:DAYLIGHT
TZOFFSETFROM:+0100
TZOFFSETTO:+0200
TZNAME:CEST
DTSTART:20250330T010000
END:DAYLIGHT
BEGIN:STANDARD
TZOFFSETFROM:+0200
TZOFFSETTO:+0100
TZNAME:CET
DTSTART:20251026T010000
END:STANDARD
BEGIN:DAYLIGHT
TZOFFSETFROM:+0100
TZOFFSETTO:+0200
TZNAME:CEST
DTSTART:20260329T010000
END:DAYLIGHT
BEGIN:STANDARD
TZOFFSETFROM:+0200
TZOFFSETTO:+0100
TZNAME:CET
DTSTART:20261025T010000
END:STANDARD
END:VTIMEZONE
BEGIN:VEVENT
DTSTART;VALUE=DATE:20250804
DTEND;VALUE=DATE:20250809
DTSTAMP:20260423T050416
CREATED:20251124T083403Z
LAST-MODIFIED:20251124T083403Z
UID:3349-1754265600-1754697599@zukunftswerkstatt-inklusion-leipzig.de
SUMMARY:Sommer·ferien·freizeit
DESCRIPTION:Auf geht’s in die Sommer·ferien auf der Johannis·höhe!\nVon 4. August bis 8. August\, immer von 8:30 Uhr bis 15:30 Uhr.\nFür Kinder von 6 Jahren bis 10 Jahren.\nMit Assis·tenz·bedarf oder ohne Assis·tenz·bedarf.\n140 Euro (+ Kosten für Assis·tenz) für die kom·plette Zeit.\n🌻\nWir ge·nießen unseren Garten.\nWir ent·decken die Natur.\nWir ver·bringen eine sommer·liche Urlaubs·zeit.\nVoller Spaß und Ab·wechs·lung!\n🎈\nMark·klee·berger Straße 25\n04279 Leipzig\n🐌\nAn·meld·ung unter\nJohanna.Weinrich@zukunftswerkstatt-inklusion-leipzig.de\n📬
URL:https://zukunftswerkstatt-inklusion-leipzig.de/termin/sommer%c2%b7ferien%c2%b7freizeit/
LOCATION:Johannis·höhe
ATTACH;FMTTYPE=image/png:https://zukunftswerkstatt-inklusion-leipzig.de/wp-content/uploads/2025/05/2025-Sommerferienfreizeit-1.png
END:VEVENT
END:VCALENDAR