BEGIN:VCALENDAR
VERSION:2.0
PRODID:-//Säe mit uns - ernte Gemein·schaft - ECPv6.15.20//NONSGML v1.0//EN
CALSCALE:GREGORIAN
METHOD:PUBLISH
X-WR-CALNAME:Säe mit uns - ernte Gemein·schaft
X-ORIGINAL-URL:https://zukunftswerkstatt-inklusion-leipzig.de
X-WR-CALDESC:Veranstaltungen für Säe mit uns - ernte Gemein·schaft
REFRESH-INTERVAL;VALUE=DURATION:PT1H
X-Robots-Tag:noindex
X-PUBLISHED-TTL:PT1H
BEGIN:VTIMEZONE
TZID:Europe/Paris
BEGIN:DAYLIGHT
TZOFFSETFROM:+0100
TZOFFSETTO:+0200
TZNAME:CEST
DTSTART:20240331T010000
END:DAYLIGHT
BEGIN:STANDARD
TZOFFSETFROM:+0200
TZOFFSETTO:+0100
TZNAME:CET
DTSTART:20241027T010000
END:STANDARD
BEGIN:DAYLIGHT
TZOFFSETFROM:+0100
TZOFFSETTO:+0200
TZNAME:CEST
DTSTART:20250330T010000
END:DAYLIGHT
BEGIN:STANDARD
TZOFFSETFROM:+0200
TZOFFSETTO:+0100
TZNAME:CET
DTSTART:20251026T010000
END:STANDARD
BEGIN:DAYLIGHT
TZOFFSETFROM:+0100
TZOFFSETTO:+0200
TZNAME:CEST
DTSTART:20260329T010000
END:DAYLIGHT
BEGIN:STANDARD
TZOFFSETFROM:+0200
TZOFFSETTO:+0100
TZNAME:CET
DTSTART:20261025T010000
END:STANDARD
END:VTIMEZONE
BEGIN:VEVENT
DTSTART;TZID=Europe/Paris:20250605T120000
DTEND;TZID=Europe/Paris:20250605T180000
DTSTAMP:20260423T062600
CREATED:20251124T082835Z
LAST-MODIFIED:20251124T082835Z
UID:3345-1749124800-1749146400@zukunftswerkstatt-inklusion-leipzig.de
SUMMARY:Offener Garten·tag
DESCRIPTION:Wir ver·bringen den Nach·mittag gemein·sam im Garten.\nWir kümmern uns um die Pflanzen.\nWir bauen neue Dinge.\nWir machen Pausen.\nWir lernen uns kennen.\nAlle sind willkommen!  \nWenn das Wetter sehr schlecht ist\, findet der offene Garten·tag nicht statt.
URL:https://zukunftswerkstatt-inklusion-leipzig.de/termin/offener-garten%c2%b7tag-29/
LOCATION:Johannis·höhe
ATTACH;FMTTYPE=image/jpeg:https://zukunftswerkstatt-inklusion-leipzig.de/wp-content/uploads/2025/06/photo_5443038979827032643_y.jpg
END:VEVENT
BEGIN:VEVENT
DTSTART;TZID=Europe/Paris:20250606T160000
DTEND;TZID=Europe/Paris:20250606T180000
DTSTAMP:20260423T062600
CREATED:20250630T090621Z
LAST-MODIFIED:20250717T151418Z
UID:2908-1749225600-1749232800@zukunftswerkstatt-inklusion-leipzig.de
SUMMARY:Theater·probe
DESCRIPTION:Wir proben für ein Shakespeare-Theater·stück.\nDie Auf·führung ist am 6. Sep·tember. \nAlle Proben kosten 30 Euro. \nIn den Schul·ferien finden keine Proben statt.
URL:https://zukunftswerkstatt-inklusion-leipzig.de/termin/theater%c2%b7probe/
LOCATION:Johannis·höhe
ATTACH;FMTTYPE=image/png:https://zukunftswerkstatt-inklusion-leipzig.de/wp-content/uploads/2025/04/image-1.png
END:VEVENT
BEGIN:VEVENT
DTSTART;TZID=Europe/Paris:20250612T120000
DTEND;TZID=Europe/Paris:20250612T180000
DTSTAMP:20260423T062600
CREATED:20251124T082627Z
LAST-MODIFIED:20251124T082704Z
UID:3341-1749729600-1749751200@zukunftswerkstatt-inklusion-leipzig.de
SUMMARY:Offener Garten·tag
DESCRIPTION:Wir ver·bringen den Nach·mittag gemein·sam im Garten.\nWir kümmern uns um die Pflanzen.\nWir bauen neue Dinge.\nWir machen Pausen.\nWir lernen uns kennen.\nAlle sind willkommen!  \nWenn das Wetter sehr schlecht ist\, findet der offene Garten·tag nicht statt.
URL:https://zukunftswerkstatt-inklusion-leipzig.de/termin/offener-garten%c2%b7tag-28/
LOCATION:Johannis·höhe
ATTACH;FMTTYPE=image/jpeg:https://zukunftswerkstatt-inklusion-leipzig.de/wp-content/uploads/2025/06/photo_5443038979827032643_y.jpg
END:VEVENT
BEGIN:VEVENT
DTSTART;TZID=Europe/Paris:20250613T160000
DTEND;TZID=Europe/Paris:20250613T180000
DTSTAMP:20260423T062600
CREATED:20250630T090805Z
LAST-MODIFIED:20250717T151348Z
UID:2912-1749830400-1749837600@zukunftswerkstatt-inklusion-leipzig.de
SUMMARY:Theater·probe
DESCRIPTION:Wir proben für ein Shakespeare-Theater·stück.\nDie Auf·führung ist am 6. Sep·tember. \nAlle Proben kosten 30 Euro. \nIn den Schul·ferien finden keine Proben statt.
URL:https://zukunftswerkstatt-inklusion-leipzig.de/termin/theater%c2%b7probe-2/
LOCATION:Johannis·höhe
ATTACH;FMTTYPE=image/png:https://zukunftswerkstatt-inklusion-leipzig.de/wp-content/uploads/2025/04/image-1.png
END:VEVENT
BEGIN:VEVENT
DTSTART;TZID=Europe/Paris:20250619T120000
DTEND;TZID=Europe/Paris:20250619T180000
DTSTAMP:20260423T062600
CREATED:20251124T082509Z
LAST-MODIFIED:20251124T082509Z
UID:3337-1750334400-1750356000@zukunftswerkstatt-inklusion-leipzig.de
SUMMARY:Offener Garten·tag
DESCRIPTION:Wir ver·bringen den Nach·mittag gemein·sam im Garten.\nWir kümmern uns um die Pflanzen.\nWir bauen neue Dinge.\nWir machen Pausen.\nWir lernen uns kennen.\nAlle sind willkommen!  \nWenn das Wetter sehr schlecht ist\, findet der offene Garten·tag nicht statt.
URL:https://zukunftswerkstatt-inklusion-leipzig.de/termin/offener-garten%c2%b7tag-27/
LOCATION:Johannis·höhe
ATTACH;FMTTYPE=image/jpeg:https://zukunftswerkstatt-inklusion-leipzig.de/wp-content/uploads/2025/06/photo_5443038979827032643_y.jpg
END:VEVENT
BEGIN:VEVENT
DTSTART;TZID=Europe/Paris:20250620T160000
DTEND;TZID=Europe/Paris:20250620T180000
DTSTAMP:20260423T062600
CREATED:20250630T090859Z
LAST-MODIFIED:20250717T151316Z
UID:2916-1750435200-1750442400@zukunftswerkstatt-inklusion-leipzig.de
SUMMARY:Theater·probe
DESCRIPTION:Wir proben für ein Shakespeare-Theater·stück.\nDie Auf·führung ist am 6. Sep·tember. \nAlle Proben kosten 30 Euro. \nIn den Schul·ferien finden keine Proben statt.
URL:https://zukunftswerkstatt-inklusion-leipzig.de/termin/theater%c2%b7probe-3/
LOCATION:Johannis·höhe
ATTACH;FMTTYPE=image/png:https://zukunftswerkstatt-inklusion-leipzig.de/wp-content/uploads/2025/04/image-1.png
END:VEVENT
BEGIN:VEVENT
DTSTART;TZID=Europe/Paris:20250626T120000
DTEND;TZID=Europe/Paris:20250626T180000
DTSTAMP:20260423T062600
CREATED:20251124T082339Z
LAST-MODIFIED:20251124T082339Z
UID:3333-1750939200-1750960800@zukunftswerkstatt-inklusion-leipzig.de
SUMMARY:Offener Garten·tag
DESCRIPTION:Wir ver·bringen den Nach·mittag gemein·sam im Garten.\nWir kümmern uns um die Pflanzen.\nWir bauen neue Dinge.\nWir machen Pausen.\nWir lernen uns kennen.\nAlle sind willkommen!  \nWenn das Wetter sehr schlecht ist\, findet der offene Garten·tag nicht statt.
URL:https://zukunftswerkstatt-inklusion-leipzig.de/termin/offener-garten%c2%b7tag-26/
LOCATION:Johannis·höhe
ATTACH;FMTTYPE=image/jpeg:https://zukunftswerkstatt-inklusion-leipzig.de/wp-content/uploads/2025/06/photo_5443038979827032643_y.jpg
END:VEVENT
BEGIN:VEVENT
DTSTART;TZID=Europe/Paris:20250627T160000
DTEND;TZID=Europe/Paris:20250627T180000
DTSTAMP:20260423T062600
CREATED:20250630T090947Z
LAST-MODIFIED:20250717T151249Z
UID:2920-1751040000-1751047200@zukunftswerkstatt-inklusion-leipzig.de
SUMMARY:Theater·probe
DESCRIPTION:Wir proben für ein Shakespeare-Theater·stück.\nDie Auf·führung ist am 6. Sep·tember. \nAlle Proben kosten 30 Euro. \nIn den Schul·ferien finden keine Proben statt.
URL:https://zukunftswerkstatt-inklusion-leipzig.de/termin/theater%c2%b7probe-4/
LOCATION:Johannis·höhe
ATTACH;FMTTYPE=image/png:https://zukunftswerkstatt-inklusion-leipzig.de/wp-content/uploads/2025/04/image-1.png
END:VEVENT
END:VCALENDAR